BEGIN:VCALENDAR
VERSION:2.0
PRODID:-//IRJGV Hundefreunde Versmold - ECPv6.13.0//NONSGML v1.0//EN
CALSCALE:GREGORIAN
METHOD:PUBLISH
X-WR-CALNAME:IRJGV Hundefreunde Versmold
X-ORIGINAL-URL:https://irjgv-hundefreunde-versmold.de
X-WR-CALDESC:Veranstaltungen für IRJGV Hundefreunde Versmold
REFRESH-INTERVAL;VALUE=DURATION:PT1H
X-Robots-Tag:noindex
X-PUBLISHED-TTL:PT1H
BEGIN:VTIMEZONE
TZID:Europe/Berlin
BEGIN:DAYLIGHT
TZOFFSETFROM:+0100
TZOFFSETTO:+0200
TZNAME:CEST
DTSTART:20260329T010000
END:DAYLIGHT
BEGIN:STANDARD
TZOFFSETFROM:+0200
TZOFFSETTO:+0100
TZNAME:CET
DTSTART:20261025T010000
END:STANDARD
END:VTIMEZONE
BEGIN:VEVENT
DTSTART;TZID=Europe/Berlin:20260720T080000
DTEND;TZID=Europe/Berlin:20260807T170000
DTSTAMP:20260421T181712
CREATED:20251222T071528Z
LAST-MODIFIED:20251222T071528Z
UID:1141-1784534400-1786122000@irjgv-hundefreunde-versmold.de
SUMMARY:Sommerpause -der Übungsbetrieb fällt aus-
DESCRIPTION:
URL:https://irjgv-hundefreunde-versmold.de/event/sommerpause-der-uebungsbetrieb-faellt-aus/
LOCATION:NRW
CATEGORIES:Trainingsbetrieb
END:VEVENT
BEGIN:VEVENT
DTSTART;TZID=Europe/Berlin:20260808T090000
DTEND;TZID=Europe/Berlin:20260809T160000
DTSTAMP:20260421T181712
CREATED:20251222T071650Z
LAST-MODIFIED:20251222T071650Z
UID:1143-1786179600-1786291200@irjgv-hundefreunde-versmold.de
SUMMARY:Trainerseminar mit Kai Rottmann -der reguläre Übungsbetrieb fällt aus-
DESCRIPTION:
URL:https://irjgv-hundefreunde-versmold.de/event/trainerseminar-mit-kai-rottmann-der-regulaere-uebungsbetrieb-faellt-aus/
LOCATION:Siedinghausen 3\, 33775 Versmold\, Siedinghausen 3\, Versmold\, 33775\, Germany
CATEGORIES:Teamtermine
END:VEVENT
BEGIN:VEVENT
DTSTART;TZID=Europe/Berlin:20260815T000000
DTEND;TZID=Europe/Berlin:20260815T235959
DTSTAMP:20260421T181712
CREATED:20251222T071741Z
LAST-MODIFIED:20251222T071741Z
UID:1145-1786752000-1786838399@irjgv-hundefreunde-versmold.de
SUMMARY:normaler Übungsbetrieb
DESCRIPTION:
URL:https://irjgv-hundefreunde-versmold.de/event/normaler-uebungsbetrieb-17/
LOCATION:Siedinghausen 3\, 33775 Versmold\, Siedinghausen 3\, Versmold\, 33775\, Germany
CATEGORIES:Trainingsbetrieb
END:VEVENT
BEGIN:VEVENT
DTSTART;TZID=Europe/Berlin:20260822T000000
DTEND;TZID=Europe/Berlin:20260822T235959
DTSTAMP:20260421T181712
CREATED:20251222T071819Z
LAST-MODIFIED:20251222T071819Z
UID:1147-1787356800-1787443199@irjgv-hundefreunde-versmold.de
SUMMARY:normaler Übungsbetrieb
DESCRIPTION:
URL:https://irjgv-hundefreunde-versmold.de/event/normaler-uebungsbetrieb-18/
LOCATION:Siedinghausen 3\, 33775 Versmold\, Siedinghausen 3\, Versmold\, 33775\, Germany
CATEGORIES:Trainingsbetrieb
END:VEVENT
BEGIN:VEVENT
DTSTART;TZID=Europe/Berlin:20260829T000000
DTEND;TZID=Europe/Berlin:20260829T235959
DTSTAMP:20260421T181712
CREATED:20251222T071853Z
LAST-MODIFIED:20251222T071853Z
UID:1149-1787961600-1788047999@irjgv-hundefreunde-versmold.de
SUMMARY:normaler Übungsbetrieb
DESCRIPTION:
URL:https://irjgv-hundefreunde-versmold.de/event/normaler-uebungsbetrieb-19/
LOCATION:Siedinghausen 3\, 33775 Versmold\, Siedinghausen 3\, Versmold\, 33775\, Germany
CATEGORIES:Trainingsbetrieb
END:VEVENT
END:VCALENDAR