BEGIN:VCALENDAR
VERSION:2.0
PRODID:-//IRJGV Hundefreunde Versmold - ECPv6.13.0//NONSGML v1.0//EN
CALSCALE:GREGORIAN
METHOD:PUBLISH
X-ORIGINAL-URL:https://irjgv-hundefreunde-versmold.de
X-WR-CALDESC:Veranstaltungen für IRJGV Hundefreunde Versmold
REFRESH-INTERVAL;VALUE=DURATION:PT1H
X-Robots-Tag:noindex
X-PUBLISHED-TTL:PT1H
BEGIN:VTIMEZONE
TZID:Europe/Berlin
BEGIN:DAYLIGHT
TZOFFSETFROM:+0100
TZOFFSETTO:+0200
TZNAME:CEST
DTSTART:20260329T010000
END:DAYLIGHT
BEGIN:STANDARD
TZOFFSETFROM:+0200
TZOFFSETTO:+0100
TZNAME:CET
DTSTART:20261025T010000
END:STANDARD
END:VTIMEZONE
BEGIN:VEVENT
DTSTART;TZID=Europe/Berlin:20260704T000000
DTEND;TZID=Europe/Berlin:20260704T235959
DTSTAMP:20260421T170457
CREATED:20251222T071235Z
LAST-MODIFIED:20251222T071235Z
UID:1135-1783123200-1783209599@irjgv-hundefreunde-versmold.de
SUMMARY:normaler Übungsbetrieb
DESCRIPTION:
URL:https://irjgv-hundefreunde-versmold.de/event/normaler-uebungsbetrieb-14/
LOCATION:Siedinghausen 3\, 33775 Versmold\, Siedinghausen 3\, Versmold\, 33775\, Germany
CATEGORIES:Trainingsbetrieb
END:VEVENT
BEGIN:VEVENT
DTSTART;TZID=Europe/Berlin:20260711T000000
DTEND;TZID=Europe/Berlin:20260711T235959
DTSTAMP:20260421T170457
CREATED:20251222T071328Z
LAST-MODIFIED:20251222T071328Z
UID:1137-1783728000-1783814399@irjgv-hundefreunde-versmold.de
SUMMARY:normaler Übungsbetrieb
DESCRIPTION:
URL:https://irjgv-hundefreunde-versmold.de/event/normaler-uebungsbetrieb-15/
LOCATION:Siedinghausen 3\, 33775 Versmold\, Siedinghausen 3\, Versmold\, 33775\, Germany
CATEGORIES:Trainingsbetrieb
END:VEVENT
BEGIN:VEVENT
DTSTART;TZID=Europe/Berlin:20260718T000000
DTEND;TZID=Europe/Berlin:20260718T235959
DTSTAMP:20260421T170457
CREATED:20251222T071406Z
LAST-MODIFIED:20251222T071406Z
UID:1139-1784332800-1784419199@irjgv-hundefreunde-versmold.de
SUMMARY:normaler Übungsbetrieb
DESCRIPTION:
URL:https://irjgv-hundefreunde-versmold.de/event/normaler-uebungsbetrieb-16/
LOCATION:Siedinghausen 3\, 33775 Versmold\, Siedinghausen 3\, Versmold\, 33775\, Germany
CATEGORIES:Trainingsbetrieb
END:VEVENT
BEGIN:VEVENT
DTSTART;TZID=Europe/Berlin:20260720T080000
DTEND;TZID=Europe/Berlin:20260807T170000
DTSTAMP:20260421T170457
CREATED:20251222T071528Z
LAST-MODIFIED:20251222T071528Z
UID:1141-1784534400-1786122000@irjgv-hundefreunde-versmold.de
SUMMARY:Sommerpause -der Übungsbetrieb fällt aus-
DESCRIPTION:
URL:https://irjgv-hundefreunde-versmold.de/event/sommerpause-der-uebungsbetrieb-faellt-aus/
LOCATION:NRW
CATEGORIES:Trainingsbetrieb
END:VEVENT
END:VCALENDAR