BEGIN:VCALENDAR
VERSION:2.0
PRODID:-//IRJGV Hundefreunde Versmold - ECPv6.13.0//NONSGML v1.0//EN
CALSCALE:GREGORIAN
METHOD:PUBLISH
X-ORIGINAL-URL:https://irjgv-hundefreunde-versmold.de
X-WR-CALDESC:Veranstaltungen für IRJGV Hundefreunde Versmold
REFRESH-INTERVAL;VALUE=DURATION:PT1H
X-Robots-Tag:noindex
X-PUBLISHED-TTL:PT1H
BEGIN:VTIMEZONE
TZID:Europe/Berlin
BEGIN:DAYLIGHT
TZOFFSETFROM:+0100
TZOFFSETTO:+0200
TZNAME:CEST
DTSTART:20260329T010000
END:DAYLIGHT
BEGIN:STANDARD
TZOFFSETFROM:+0200
TZOFFSETTO:+0100
TZNAME:CET
DTSTART:20261025T010000
END:STANDARD
END:VTIMEZONE
BEGIN:VEVENT
DTSTART;TZID=Europe/Berlin:20260307T000000
DTEND;TZID=Europe/Berlin:20260307T235959
DTSTAMP:20260421T141343
CREATED:20251222T065103Z
LAST-MODIFIED:20251222T065103Z
UID:1096-1772841600-1772927999@irjgv-hundefreunde-versmold.de
SUMMARY:normaler Übungsbetrieb
DESCRIPTION:
URL:https://irjgv-hundefreunde-versmold.de/event/normaler-uebungsbetrieb-4/
LOCATION:Siedinghausen 3\, 33775 Versmold\, Siedinghausen 3\, Versmold\, 33775\, Germany
CATEGORIES:Trainingsbetrieb
END:VEVENT
BEGIN:VEVENT
DTSTART;TZID=Europe/Berlin:20260314T000000
DTEND;TZID=Europe/Berlin:20260314T235959
DTSTAMP:20260421T141343
CREATED:20251222T065208Z
LAST-MODIFIED:20251222T065208Z
UID:1098-1773446400-1773532799@irjgv-hundefreunde-versmold.de
SUMMARY:normaler Übungsbetrieb
DESCRIPTION:
URL:https://irjgv-hundefreunde-versmold.de/event/normaler-uebungsbetrieb-5/
LOCATION:Siedinghausen 3\, 33775 Versmold\, Siedinghausen 3\, Versmold\, 33775\, Germany
CATEGORIES:Trainingsbetrieb
END:VEVENT
BEGIN:VEVENT
DTSTART;TZID=Europe/Berlin:20260318T180000
DTEND;TZID=Europe/Berlin:20260318T210000
DTSTAMP:20260421T141343
CREATED:20251222T073411Z
LAST-MODIFIED:20251222T073411Z
UID:1180-1773856800-1773867600@irjgv-hundefreunde-versmold.de
SUMMARY:Versammlung der Ortsgruppe Hundefreunde Versmold
DESCRIPTION:
URL:https://irjgv-hundefreunde-versmold.de/event/versammlung-der-ortsgruppe-hundefreunde-versmold/
LOCATION:Gaststätte Schneider-Eggert\, Stränger Str. 61\, 33775 Versmold\, NRW\, 33775
CATEGORIES:rund um unsere Ortsgruppe
END:VEVENT
BEGIN:VEVENT
DTSTART;TZID=Europe/Berlin:20260321T000000
DTEND;TZID=Europe/Berlin:20260321T235959
DTSTAMP:20260421T141343
CREATED:20251222T065250Z
LAST-MODIFIED:20251222T065250Z
UID:1100-1774051200-1774137599@irjgv-hundefreunde-versmold.de
SUMMARY:normaler Übungsbetrieb
DESCRIPTION:
URL:https://irjgv-hundefreunde-versmold.de/event/normaler-uebungsbetrieb-6/
LOCATION:Siedinghausen 3\, 33775 Versmold\, Siedinghausen 3\, Versmold\, 33775\, Germany
CATEGORIES:Trainingsbetrieb
END:VEVENT
BEGIN:VEVENT
DTSTART;TZID=Europe/Berlin:20260328T000000
DTEND;TZID=Europe/Berlin:20260328T235959
DTSTAMP:20260421T141343
CREATED:20251222T065350Z
LAST-MODIFIED:20251222T065350Z
UID:1102-1774656000-1774742399@irjgv-hundefreunde-versmold.de
SUMMARY:normaler Übungsbetrieb
DESCRIPTION:
URL:https://irjgv-hundefreunde-versmold.de/event/normaler-uebungsbetrieb-7/
LOCATION:Siedinghausen 3\, 33775 Versmold\, Siedinghausen 3\, Versmold\, 33775\, Germany
CATEGORIES:Trainingsbetrieb
END:VEVENT
END:VCALENDAR