BEGIN:VCALENDAR
VERSION:2.0
PRODID:-//IRJGV Hundefreunde Versmold - ECPv6.13.0//NONSGML v1.0//EN
CALSCALE:GREGORIAN
METHOD:PUBLISH
X-WR-CALNAME:IRJGV Hundefreunde Versmold
X-ORIGINAL-URL:https://irjgv-hundefreunde-versmold.de
X-WR-CALDESC:Veranstaltungen für IRJGV Hundefreunde Versmold
REFRESH-INTERVAL;VALUE=DURATION:PT1H
X-Robots-Tag:noindex
X-PUBLISHED-TTL:PT1H
BEGIN:VTIMEZONE
TZID:Europe/Berlin
BEGIN:DAYLIGHT
TZOFFSETFROM:+0100
TZOFFSETTO:+0200
TZNAME:CEST
DTSTART:20260329T010000
END:DAYLIGHT
BEGIN:STANDARD
TZOFFSETFROM:+0200
TZOFFSETTO:+0100
TZNAME:CET
DTSTART:20261025T010000
END:STANDARD
END:VTIMEZONE
BEGIN:VEVENT
DTSTART;TZID=Europe/Berlin:20260620T000000
DTEND;TZID=Europe/Berlin:20260620T235959
DTSTAMP:20260421T130244
CREATED:20251222T070923Z
LAST-MODIFIED:20260409T064305Z
UID:1128-1781913600-1781999999@irjgv-hundefreunde-versmold.de
SUMMARY:normaler Übungsbetrieb
DESCRIPTION:
URL:https://irjgv-hundefreunde-versmold.de/event/normaler-uebungsbetrieb-12/
LOCATION:Siedinghausen 3\, 33775 Versmold\, Siedinghausen 3\, Versmold\, 33775\, Germany
CATEGORIES:Trainingsbetrieb
END:VEVENT
BEGIN:VEVENT
DTSTART;TZID=Europe/Berlin:20260627T000000
DTEND;TZID=Europe/Berlin:20260627T235959
DTSTAMP:20260421T130244
CREATED:20251222T071201Z
LAST-MODIFIED:20251222T071201Z
UID:1133-1782518400-1782604799@irjgv-hundefreunde-versmold.de
SUMMARY:normaler Übungsbetrieb
DESCRIPTION:
URL:https://irjgv-hundefreunde-versmold.de/event/normaler-uebungsbetrieb-13/
LOCATION:Siedinghausen 3\, 33775 Versmold\, Siedinghausen 3\, Versmold\, 33775\, Germany
CATEGORIES:Trainingsbetrieb
END:VEVENT
BEGIN:VEVENT
DTSTART;TZID=Europe/Berlin:20260704T000000
DTEND;TZID=Europe/Berlin:20260704T235959
DTSTAMP:20260421T130244
CREATED:20251222T071235Z
LAST-MODIFIED:20251222T071235Z
UID:1135-1783123200-1783209599@irjgv-hundefreunde-versmold.de
SUMMARY:normaler Übungsbetrieb
DESCRIPTION:
URL:https://irjgv-hundefreunde-versmold.de/event/normaler-uebungsbetrieb-14/
LOCATION:Siedinghausen 3\, 33775 Versmold\, Siedinghausen 3\, Versmold\, 33775\, Germany
CATEGORIES:Trainingsbetrieb
END:VEVENT
BEGIN:VEVENT
DTSTART;TZID=Europe/Berlin:20260711T000000
DTEND;TZID=Europe/Berlin:20260711T235959
DTSTAMP:20260421T130244
CREATED:20251222T071328Z
LAST-MODIFIED:20251222T071328Z
UID:1137-1783728000-1783814399@irjgv-hundefreunde-versmold.de
SUMMARY:normaler Übungsbetrieb
DESCRIPTION:
URL:https://irjgv-hundefreunde-versmold.de/event/normaler-uebungsbetrieb-15/
LOCATION:Siedinghausen 3\, 33775 Versmold\, Siedinghausen 3\, Versmold\, 33775\, Germany
CATEGORIES:Trainingsbetrieb
END:VEVENT
BEGIN:VEVENT
DTSTART;TZID=Europe/Berlin:20260718T000000
DTEND;TZID=Europe/Berlin:20260718T235959
DTSTAMP:20260421T130244
CREATED:20251222T071406Z
LAST-MODIFIED:20251222T071406Z
UID:1139-1784332800-1784419199@irjgv-hundefreunde-versmold.de
SUMMARY:normaler Übungsbetrieb
DESCRIPTION:
URL:https://irjgv-hundefreunde-versmold.de/event/normaler-uebungsbetrieb-16/
LOCATION:Siedinghausen 3\, 33775 Versmold\, Siedinghausen 3\, Versmold\, 33775\, Germany
CATEGORIES:Trainingsbetrieb
END:VEVENT
BEGIN:VEVENT
DTSTART;TZID=Europe/Berlin:20260720T080000
DTEND;TZID=Europe/Berlin:20260807T170000
DTSTAMP:20260421T130244
CREATED:20251222T071528Z
LAST-MODIFIED:20251222T071528Z
UID:1141-1784534400-1786122000@irjgv-hundefreunde-versmold.de
SUMMARY:Sommerpause -der Übungsbetrieb fällt aus-
DESCRIPTION:
URL:https://irjgv-hundefreunde-versmold.de/event/sommerpause-der-uebungsbetrieb-faellt-aus/
CATEGORIES:Trainingsbetrieb
END:VEVENT
BEGIN:VEVENT
DTSTART;TZID=Europe/Berlin:20260808T090000
DTEND;TZID=Europe/Berlin:20260809T160000
DTSTAMP:20260421T130244
CREATED:20251222T071650Z
LAST-MODIFIED:20251222T071650Z
UID:1143-1786179600-1786291200@irjgv-hundefreunde-versmold.de
SUMMARY:Trainerseminar mit Kai Rottmann -der reguläre Übungsbetrieb fällt aus-
DESCRIPTION:
URL:https://irjgv-hundefreunde-versmold.de/event/trainerseminar-mit-kai-rottmann-der-regulaere-uebungsbetrieb-faellt-aus/
LOCATION:Siedinghausen 3\, 33775 Versmold\, Siedinghausen 3\, Versmold\, 33775\, Germany
CATEGORIES:Teamtermine
END:VEVENT
BEGIN:VEVENT
DTSTART;TZID=Europe/Berlin:20260815T000000
DTEND;TZID=Europe/Berlin:20260815T235959
DTSTAMP:20260421T130244
CREATED:20251222T071741Z
LAST-MODIFIED:20251222T071741Z
UID:1145-1786752000-1786838399@irjgv-hundefreunde-versmold.de
SUMMARY:normaler Übungsbetrieb
DESCRIPTION:
URL:https://irjgv-hundefreunde-versmold.de/event/normaler-uebungsbetrieb-17/
LOCATION:Siedinghausen 3\, 33775 Versmold\, Siedinghausen 3\, Versmold\, 33775\, Germany
CATEGORIES:Trainingsbetrieb
END:VEVENT
BEGIN:VEVENT
DTSTART;TZID=Europe/Berlin:20260822T000000
DTEND;TZID=Europe/Berlin:20260822T235959
DTSTAMP:20260421T130244
CREATED:20251222T071819Z
LAST-MODIFIED:20251222T071819Z
UID:1147-1787356800-1787443199@irjgv-hundefreunde-versmold.de
SUMMARY:normaler Übungsbetrieb
DESCRIPTION:
URL:https://irjgv-hundefreunde-versmold.de/event/normaler-uebungsbetrieb-18/
LOCATION:Siedinghausen 3\, 33775 Versmold\, Siedinghausen 3\, Versmold\, 33775\, Germany
CATEGORIES:Trainingsbetrieb
END:VEVENT
BEGIN:VEVENT
DTSTART;TZID=Europe/Berlin:20260829T000000
DTEND;TZID=Europe/Berlin:20260829T235959
DTSTAMP:20260421T130244
CREATED:20251222T071853Z
LAST-MODIFIED:20251222T071853Z
UID:1149-1787961600-1788047999@irjgv-hundefreunde-versmold.de
SUMMARY:normaler Übungsbetrieb
DESCRIPTION:
URL:https://irjgv-hundefreunde-versmold.de/event/normaler-uebungsbetrieb-19/
LOCATION:Siedinghausen 3\, 33775 Versmold\, Siedinghausen 3\, Versmold\, 33775\, Germany
CATEGORIES:Trainingsbetrieb
END:VEVENT
BEGIN:VEVENT
DTSTART;TZID=Europe/Berlin:20260905T150000
DTEND;TZID=Europe/Berlin:20260905T170000
DTSTAMP:20260421T130244
CREATED:20251222T072009Z
LAST-MODIFIED:20251222T072009Z
UID:1151-1788620400-1788627600@irjgv-hundefreunde-versmold.de
SUMMARY:Sommerfest der Hundefreunde Versmold -der reguläre Betrieb fällt aus-
DESCRIPTION:
URL:https://irjgv-hundefreunde-versmold.de/event/sommerfest-der-hundefreunde-versmold-der-regulaere-betrieb-faellt-aus/
LOCATION:Siedinghausen 3\, 33775 Versmold\, Siedinghausen 3\, Versmold\, 33775\, Germany
CATEGORIES:rund um unsere Ortsgruppe
END:VEVENT
BEGIN:VEVENT
DTSTART;TZID=Europe/Berlin:20260912T000000
DTEND;TZID=Europe/Berlin:20260912T235959
DTSTAMP:20260421T130244
CREATED:20251222T072114Z
LAST-MODIFIED:20251222T072114Z
UID:1153-1789171200-1789257599@irjgv-hundefreunde-versmold.de
SUMMARY:normaler Übungsbetrieb
DESCRIPTION:
URL:https://irjgv-hundefreunde-versmold.de/event/normaler-uebungsbetrieb-20/
LOCATION:Siedinghausen 3\, 33775 Versmold\, Siedinghausen 3\, Versmold\, 33775\, Germany
CATEGORIES:Trainingsbetrieb
END:VEVENT
BEGIN:VEVENT
DTSTART;TZID=Europe/Berlin:20260919T000000
DTEND;TZID=Europe/Berlin:20260919T235959
DTSTAMP:20260421T130244
CREATED:20251222T072148Z
LAST-MODIFIED:20251222T072148Z
UID:1155-1789776000-1789862399@irjgv-hundefreunde-versmold.de
SUMMARY:normaler Übungsbetrieb
DESCRIPTION:
URL:https://irjgv-hundefreunde-versmold.de/event/normaler-uebungsbetrieb-21/
LOCATION:Siedinghausen 3\, 33775 Versmold\, Siedinghausen 3\, Versmold\, 33775\, Germany
CATEGORIES:Trainingsbetrieb
END:VEVENT
BEGIN:VEVENT
DTSTART;TZID=Europe/Berlin:20260924T190000
DTEND;TZID=Europe/Berlin:20260924T210000
DTSTAMP:20260421T130244
CREATED:20251222T073636Z
LAST-MODIFIED:20251222T073636Z
UID:1187-1790276400-1790283600@irjgv-hundefreunde-versmold.de
SUMMARY:Stammtisch der Hundefreunde Versmold
DESCRIPTION:
URL:https://irjgv-hundefreunde-versmold.de/event/stammtisch-der-hundefreunde-versmold-3/
LOCATION:Gaststätte Schneider-Eggert\, Stränger Str. 61\, 33775 Versmold\, NRW\, 33775
CATEGORIES:rund um unsere Ortsgruppe
END:VEVENT
BEGIN:VEVENT
DTSTART;TZID=Europe/Berlin:20260926T000000
DTEND;TZID=Europe/Berlin:20260926T235959
DTSTAMP:20260421T130244
CREATED:20251222T072247Z
LAST-MODIFIED:20251222T072247Z
UID:1157-1790380800-1790467199@irjgv-hundefreunde-versmold.de
SUMMARY:normaler Übungsbetrieb
DESCRIPTION:
URL:https://irjgv-hundefreunde-versmold.de/event/normaler-uebungsbetrieb-22/
LOCATION:Siedinghausen 3\, 33775 Versmold\, Siedinghausen 3\, Versmold\, 33775\, Germany
CATEGORIES:Trainingsbetrieb
END:VEVENT
BEGIN:VEVENT
DTSTART;TZID=Europe/Berlin:20261003T000000
DTEND;TZID=Europe/Berlin:20261003T235959
DTSTAMP:20260421T130244
CREATED:20251222T072347Z
LAST-MODIFIED:20251222T072347Z
UID:1159-1790985600-1791071999@irjgv-hundefreunde-versmold.de
SUMMARY:normaler Übungsbetrieb am Tag der deutschen Einheit
DESCRIPTION:
URL:https://irjgv-hundefreunde-versmold.de/event/normaler-uebungsbetrieb-am-tag-der-deutschen-einheit/
LOCATION:Siedinghausen 3\, 33775 Versmold\, Siedinghausen 3\, Versmold\, 33775\, Germany
CATEGORIES:Trainingsbetrieb
END:VEVENT
BEGIN:VEVENT
DTSTART;TZID=Europe/Berlin:20261010T000000
DTEND;TZID=Europe/Berlin:20261010T235959
DTSTAMP:20260421T130244
CREATED:20251222T072453Z
LAST-MODIFIED:20251222T072453Z
UID:1161-1791590400-1791676799@irjgv-hundefreunde-versmold.de
SUMMARY:normaler Übungsbetrieb
DESCRIPTION:
URL:https://irjgv-hundefreunde-versmold.de/event/normaler-uebungsbetrieb-23/
LOCATION:Siedinghausen 3\, 33775 Versmold\, Siedinghausen 3\, Versmold\, 33775\, Germany
CATEGORIES:Trainingsbetrieb
END:VEVENT
BEGIN:VEVENT
DTSTART;TZID=Europe/Berlin:20261017T000000
DTEND;TZID=Europe/Berlin:20261017T235959
DTSTAMP:20260421T130244
CREATED:20251222T072529Z
LAST-MODIFIED:20251222T072529Z
UID:1163-1792195200-1792281599@irjgv-hundefreunde-versmold.de
SUMMARY:normaler Übungsbetrieb
DESCRIPTION:
URL:https://irjgv-hundefreunde-versmold.de/event/normaler-uebungsbetrieb-24/
LOCATION:Siedinghausen 3\, 33775 Versmold\, Siedinghausen 3\, Versmold\, 33775\, Germany
CATEGORIES:Trainingsbetrieb
END:VEVENT
BEGIN:VEVENT
DTSTART;TZID=Europe/Berlin:20261024T000000
DTEND;TZID=Europe/Berlin:20261024T235959
DTSTAMP:20260421T130244
CREATED:20251222T072601Z
LAST-MODIFIED:20251222T072601Z
UID:1165-1792800000-1792886399@irjgv-hundefreunde-versmold.de
SUMMARY:normaler Übungsbetrieb
DESCRIPTION:
URL:https://irjgv-hundefreunde-versmold.de/event/normaler-uebungsbetrieb-25/
LOCATION:Siedinghausen 3\, 33775 Versmold\, Siedinghausen 3\, Versmold\, 33775\, Germany
CATEGORIES:Trainingsbetrieb
END:VEVENT
BEGIN:VEVENT
DTSTART;TZID=Europe/Berlin:20261031T000000
DTEND;TZID=Europe/Berlin:20261031T235959
DTSTAMP:20260421T130244
CREATED:20251222T072643Z
LAST-MODIFIED:20251222T072643Z
UID:1167-1793404800-1793491199@irjgv-hundefreunde-versmold.de
SUMMARY:normaler Übungsbetrieb
DESCRIPTION:
URL:https://irjgv-hundefreunde-versmold.de/event/normaler-uebungsbetrieb-26/
LOCATION:Siedinghausen 3\, 33775 Versmold\, Siedinghausen 3\, Versmold\, 33775\, Germany
CATEGORIES:Trainingsbetrieb
END:VEVENT
BEGIN:VEVENT
DTSTART;TZID=Europe/Berlin:20261104T190000
DTEND;TZID=Europe/Berlin:20261104T210000
DTSTAMP:20260421T130244
CREATED:20251222T073722Z
LAST-MODIFIED:20251222T073722Z
UID:1189-1793818800-1793826000@irjgv-hundefreunde-versmold.de
SUMMARY:Stammtisch der Hundefreunde Versmold
DESCRIPTION:
URL:https://irjgv-hundefreunde-versmold.de/event/stammtisch-der-hundefreunde-versmold-4/
LOCATION:Gaststätte Schneider-Eggert\, Stränger Str. 61\, 33775 Versmold\, NRW\, 33775
CATEGORIES:rund um unsere Ortsgruppe
END:VEVENT
BEGIN:VEVENT
DTSTART;TZID=Europe/Berlin:20261107T000000
DTEND;TZID=Europe/Berlin:20261107T235959
DTSTAMP:20260421T130244
CREATED:20251222T072715Z
LAST-MODIFIED:20251222T072715Z
UID:1169-1794009600-1794095999@irjgv-hundefreunde-versmold.de
SUMMARY:normaler Übungsbetrieb
DESCRIPTION:
URL:https://irjgv-hundefreunde-versmold.de/event/normaler-uebungsbetrieb-27/
LOCATION:Siedinghausen 3\, 33775 Versmold\, Siedinghausen 3\, Versmold\, 33775\, Germany
CATEGORIES:Trainingsbetrieb
END:VEVENT
BEGIN:VEVENT
DTSTART;TZID=Europe/Berlin:20261114T000000
DTEND;TZID=Europe/Berlin:20261114T235959
DTSTAMP:20260421T130244
CREATED:20251222T072747Z
LAST-MODIFIED:20251222T072747Z
UID:1171-1794614400-1794700799@irjgv-hundefreunde-versmold.de
SUMMARY:normaler Übungsbetrieb
DESCRIPTION:
URL:https://irjgv-hundefreunde-versmold.de/event/normaler-uebungsbetrieb-28/
LOCATION:Siedinghausen 3\, 33775 Versmold\, Siedinghausen 3\, Versmold\, 33775\, Germany
CATEGORIES:Trainingsbetrieb
END:VEVENT
BEGIN:VEVENT
DTSTART;TZID=Europe/Berlin:20261121T000000
DTEND;TZID=Europe/Berlin:20261121T235959
DTSTAMP:20260421T130244
CREATED:20251222T072818Z
LAST-MODIFIED:20251222T072818Z
UID:1173-1795219200-1795305599@irjgv-hundefreunde-versmold.de
SUMMARY:normaler Übungsbetrieb
DESCRIPTION:
URL:https://irjgv-hundefreunde-versmold.de/event/normaler-uebungsbetrieb-29/
LOCATION:Siedinghausen 3\, 33775 Versmold\, Siedinghausen 3\, Versmold\, 33775\, Germany
CATEGORIES:Trainingsbetrieb
END:VEVENT
BEGIN:VEVENT
DTSTART;TZID=Europe/Berlin:20261128T000000
DTEND;TZID=Europe/Berlin:20261128T235959
DTSTAMP:20260421T130244
CREATED:20251222T072848Z
LAST-MODIFIED:20251222T072848Z
UID:1175-1795824000-1795910399@irjgv-hundefreunde-versmold.de
SUMMARY:normaler Übungsbetrieb
DESCRIPTION:
URL:https://irjgv-hundefreunde-versmold.de/event/normaler-uebungsbetrieb-30/
LOCATION:Siedinghausen 3\, 33775 Versmold\, Siedinghausen 3\, Versmold\, 33775\, Germany
CATEGORIES:Trainingsbetrieb
END:VEVENT
BEGIN:VEVENT
DTSTART;TZID=Europe/Berlin:20261205T160000
DTEND;TZID=Europe/Berlin:20261205T183000
DTSTAMP:20260421T130244
CREATED:20251222T073119Z
LAST-MODIFIED:20251222T073119Z
UID:1178-1796486400-1796495400@irjgv-hundefreunde-versmold.de
SUMMARY:weihnachtlicher Ausklang -der reguläre Übungsbetrieb fällt aus-
DESCRIPTION:
URL:https://irjgv-hundefreunde-versmold.de/event/weihnachtlicher-ausklang-der-regulaere-uebungsbetrieb-faellt-aus/
LOCATION:Siedinghausen 3\, 33775 Versmold\, Siedinghausen 3\, Versmold\, 33775\, Germany
CATEGORIES:rund um unsere Ortsgruppe
END:VEVENT
END:VCALENDAR