BEGIN:VCALENDAR
VERSION:2.0
PRODID:-//IRJGV Hundefreunde Versmold - ECPv6.13.0//NONSGML v1.0//EN
CALSCALE:GREGORIAN
METHOD:PUBLISH
X-WR-CALNAME:IRJGV Hundefreunde Versmold
X-ORIGINAL-URL:https://irjgv-hundefreunde-versmold.de
X-WR-CALDESC:Veranstaltungen für IRJGV Hundefreunde Versmold
REFRESH-INTERVAL;VALUE=DURATION:PT1H
X-Robots-Tag:noindex
X-PUBLISHED-TTL:PT1H
BEGIN:VTIMEZONE
TZID:Europe/Berlin
BEGIN:DAYLIGHT
TZOFFSETFROM:+0100
TZOFFSETTO:+0200
TZNAME:CEST
DTSTART:20260329T010000
END:DAYLIGHT
BEGIN:STANDARD
TZOFFSETFROM:+0200
TZOFFSETTO:+0100
TZNAME:CET
DTSTART:20261025T010000
END:STANDARD
END:VTIMEZONE
BEGIN:VEVENT
DTSTART;TZID=Europe/Berlin:20260214T000000
DTEND;TZID=Europe/Berlin:20260214T235959
DTSTAMP:20260421T170733
CREATED:20251222T064820Z
LAST-MODIFIED:20251222T064923Z
UID:1090-1771027200-1771113599@irjgv-hundefreunde-versmold.de
SUMMARY:normaler Übungsbetrieb
DESCRIPTION:
URL:https://irjgv-hundefreunde-versmold.de/event/normaler-uebungsbetrieb-2/
LOCATION:Siedinghausen 3\, 33775 Versmold\, Siedinghausen 3\, Versmold\, 33775\, Germany
CATEGORIES:Trainingsbetrieb
END:VEVENT
END:VCALENDAR